BEGIN:VCALENDAR
VERSION:2.0
PRODID:-//wp-events-plugin.com//7.2.3.1//EN
TZID:Europe/Paris
X-WR-TIMEZONE:Europe/Paris
BEGIN:VEVENT
UID:1889@plongee-gesma.com
DTSTART;TZID=Europe/Paris:20250725T180000
DTEND;TZID=Europe/Paris:20250725T210000
DTSTAMP:20250715T172833Z
URL:https://www.plongee-gesma.com/site/events/animations-piscines-de-la-co
 uronne/
SUMMARY:Animations piscine de la Couronne
DESCRIPTION:Les animations en soirée (baptêmes\, initiation apnée et NAP
 ) à la piscine de La Couronne.
CATEGORIES:Information
LOCATION:Piscine de La Couronne\, 7 Rue Jean Moreau\, La Couronne\, 16400\,
  France
X-APPLE-STRUCTURED-LOCATION;VALUE=URI;X-ADDRESS=7 Rue Jean Moreau\, La Cour
 onne\, 16400\, France;X-APPLE-RADIUS=100;X-TITLE=Piscine de La Couronne:ge
 o:0,0
END:VEVENT
BEGIN:VTIMEZONE
TZID:Europe/Paris
X-LIC-LOCATION:Europe/Paris
BEGIN:DAYLIGHT
DTSTART:20250330T030000
TZOFFSETFROM:+0100
TZOFFSETTO:+0200
TZNAME:CEST
END:DAYLIGHT
END:VTIMEZONE
END:VCALENDAR