BEGIN:VCALENDAR
VERSION:2.0
PRODID:-//wp-events-plugin.com//7.2.3.1//EN
TZID:Europe/Paris
X-WR-TIMEZONE:Europe/Paris
BEGIN:VEVENT
UID:563@plongee-gesma.com
DTSTART;TZID=Europe/Paris:20221004T200000
DTEND;TZID=Europe/Paris:20221004T220000
DTSTAMP:20220929T095053Z
URL:http://www.plongee-gesma.com/site/events/photovideos-2022-10-04/
SUMMARY:Photo&vidéos
DESCRIPTION:Réunion de la commission Photo/vidéo
LOCATION:Local Montauzier\, rue Marcel Pierre\, Angoulême\, FRANCE\, 16000
 \, France
GEO:45.653032;0.14279
X-APPLE-STRUCTURED-LOCATION;VALUE=URI;X-ADDRESS=rue Marcel Pierre\, Angoul
 ême\, FRANCE\, 16000\, France;X-APPLE-RADIUS=100;X-TITLE=Local Montauzier
 :geo:45.653032,0.14279
END:VEVENT
BEGIN:VTIMEZONE
TZID:Europe/Paris
X-LIC-LOCATION:Europe/Paris
BEGIN:DAYLIGHT
DTSTART:20220327T030000
TZOFFSETFROM:+0100
TZOFFSETTO:+0200
TZNAME:CEST
END:DAYLIGHT
END:VTIMEZONE
END:VCALENDAR