BEGIN:VCALENDAR
VERSION:2.0
PRODID:-//wp-events-plugin.com//7.2.3.1//EN
TZID:Europe/Paris
X-WR-TIMEZONE:Europe/Paris
BEGIN:VEVENT
UID:1581@plongee-gesma.com
DTSTART;TZID=Europe/Paris;VALUE=DATE:20250222
DTEND;TZID=Europe/Paris;VALUE=DATE:20250310
DTSTAMP:20240718T075357Z
URL:http://www.plongee-gesma.com/site/events/periode-de-vancances-3/
SUMMARY:Période de vancances
DESCRIPTION:Pas d'activités de formation durant cette période.
CATEGORIES:Information,Vacances
LOCATION:Nautilis\, 189 Rue des Mesniers\, Saint-Yrieix-sur-Charente\, Fran
 ce\, 16710\, France
GEO:45.685201;0.14533
X-APPLE-STRUCTURED-LOCATION;VALUE=URI;X-ADDRESS=189 Rue des Mesniers\, Sain
 t-Yrieix-sur-Charente\, France\, 16710\, France;X-APPLE-RADIUS=100;X-TITLE
 =Nautilis:geo:45.685201,0.14533
END:VEVENT
BEGIN:VTIMEZONE
TZID:Europe/Paris
X-LIC-LOCATION:Europe/Paris
BEGIN:STANDARD
DTSTART:20241027T020000
TZOFFSETFROM:+0200
TZOFFSETTO:+0100
TZNAME:CET
END:STANDARD
END:VTIMEZONE
END:VCALENDAR