BEGIN:VCALENDAR
VERSION:2.0
PRODID:-//wp-events-plugin.com//7.2.3.1//EN
TZID:Europe/Paris
X-WR-TIMEZONE:Europe/Paris
BEGIN:VEVENT
UID:1336@plongee-gesma.com
DTSTART;TZID=Europe/Paris;VALUE=DATE:20240324
DTEND;TZID=Europe/Paris;VALUE=DATE:20240325
DTSTAMP:20231012T152544Z
URL:http://www.plongee-gesma.com/site/events/formation-n2-civaux-n2/
SUMMARY:Formation N2-->Civaux N2
DESCRIPTION:
CATEGORIES:Formation,N2
END:VEVENT
BEGIN:VTIMEZONE
TZID:Europe/Paris
X-LIC-LOCATION:Europe/Paris
BEGIN:STANDARD
DTSTART:20231029T020000
TZOFFSETFROM:+0200
TZOFFSETTO:+0100
TZNAME:CET
END:STANDARD
END:VTIMEZONE
END:VCALENDAR